BEGIN:VCALENDAR
VERSION:2.0
PRODID:-//Grace Baptist Church Sudbury - ECPv6.15.20//NONSGML v1.0//EN
CALSCALE:GREGORIAN
METHOD:PUBLISH
X-ORIGINAL-URL:https://gracebaptistsudbury.co.uk
X-WR-CALDESC:Events for Grace Baptist Church Sudbury
REFRESH-INTERVAL;VALUE=DURATION:PT1H
X-Robots-Tag:noindex
X-PUBLISHED-TTL:PT1H
BEGIN:VTIMEZONE
TZID:Europe/London
BEGIN:DAYLIGHT
TZOFFSETFROM:+0000
TZOFFSETTO:+0100
TZNAME:BST
DTSTART:20240331T010000
END:DAYLIGHT
BEGIN:STANDARD
TZOFFSETFROM:+0100
TZOFFSETTO:+0000
TZNAME:GMT
DTSTART:20241027T010000
END:STANDARD
BEGIN:DAYLIGHT
TZOFFSETFROM:+0000
TZOFFSETTO:+0100
TZNAME:BST
DTSTART:20250330T010000
END:DAYLIGHT
BEGIN:STANDARD
TZOFFSETFROM:+0100
TZOFFSETTO:+0000
TZNAME:GMT
DTSTART:20251026T010000
END:STANDARD
BEGIN:DAYLIGHT
TZOFFSETFROM:+0000
TZOFFSETTO:+0100
TZNAME:BST
DTSTART:20260329T010000
END:DAYLIGHT
BEGIN:STANDARD
TZOFFSETFROM:+0100
TZOFFSETTO:+0000
TZNAME:GMT
DTSTART:20261025T010000
END:STANDARD
END:VTIMEZONE
BEGIN:VEVENT
DTSTART;TZID=Europe/London:20250404T190000
DTEND;TZID=Europe/London:20250404T210000
DTSTAMP:20260425T113550
CREATED:20250214T143834Z
LAST-MODIFIED:20250214T143834Z
UID:1236-1743793200-1743800400@gracebaptistsudbury.co.uk
SUMMARY:Young People's Evening
DESCRIPTION:All secondary school age children welcome. See Home page for contact details.
URL:https://gracebaptistsudbury.co.uk/event/young-peoples-evening-26
LOCATION:Suffolk
END:VEVENT
BEGIN:VEVENT
DTSTART;TZID=Europe/London:20250418T160000
DTEND;TZID=Europe/London:20250418T170000
DTSTAMP:20260425T113550
CREATED:20250214T143928Z
LAST-MODIFIED:20250214T143928Z
UID:1238-1744992000-1744995600@gracebaptistsudbury.co.uk
SUMMARY:Good Friday service with communion & followed by tea
DESCRIPTION:
URL:https://gracebaptistsudbury.co.uk/event/good-friday-service-with-communion-followed-by-tea
LOCATION:Grace Baptist Church\, New Street\, Sudbury\, Suffolk\, CO10 1JB\, United Kingdom
END:VEVENT
BEGIN:VEVENT
DTSTART;VALUE=DATE:20250420
DTEND;VALUE=DATE:20250421
DTSTAMP:20260425T113550
CREATED:20250214T144832Z
LAST-MODIFIED:20250214T144832Z
UID:1246-1745107200-1745193599@gracebaptistsudbury.co.uk
SUMMARY:Easter Sunday services
DESCRIPTION:Services at 11.00am & 6.30pm. All are welcome to come and give thanks for the death and resurrection of the Lord Jesus Christ.
URL:https://gracebaptistsudbury.co.uk/event/easter-sunday-services-2
LOCATION:Grace Baptist Church\, New Street\, Sudbury\, Suffolk\, CO10 1JB\, United Kingdom
END:VEVENT
BEGIN:VEVENT
DTSTART;TZID=Europe/London:20250422T193000
DTEND;TZID=Europe/London:20250422T210000
DTSTAMP:20260425T113550
CREATED:20250214T144253Z
LAST-MODIFIED:20250214T144253Z
UID:1244-1745350200-1745355600@gracebaptistsudbury.co.uk
SUMMARY:Grace Baptist East Anglia Association local area prayer meeting
DESCRIPTION:
URL:https://gracebaptistsudbury.co.uk/event/grace-baptist-east-anglia-association-local-area-prayer-meeting
LOCATION:Rattlesden GBC\, Felsham Road\, Rattlesden
END:VEVENT
BEGIN:VEVENT
DTSTART;TZID=Europe/London:20250424T140000
DTEND;TZID=Europe/London:20250424T150000
DTSTAMP:20260425T113550
CREATED:20250214T144033Z
LAST-MODIFIED:20250214T144033Z
UID:1240-1745503200-1745506800@gracebaptistsudbury.co.uk
SUMMARY:Women to women ladies meeting
DESCRIPTION:
URL:https://gracebaptistsudbury.co.uk/event/women-to-women-ladies-meeting-46
LOCATION:Grace Baptist Church\, New Street\, Sudbury\, Suffolk\, CO10 1JB\, United Kingdom
END:VEVENT
BEGIN:VEVENT
DTSTART;TZID=Europe/London:20250425T193000
DTEND;TZID=Europe/London:20250425T210000
DTSTAMP:20260425T113550
CREATED:20250214T144138Z
LAST-MODIFIED:20250214T144138Z
UID:1242-1745609400-1745614800@gracebaptistsudbury.co.uk
SUMMARY:Men's meeting
DESCRIPTION:
URL:https://gracebaptistsudbury.co.uk/event/mens-meeting-13
LOCATION:Grace Baptist Church\, New Street\, Sudbury\, Suffolk\, CO10 1JB\, United Kingdom
END:VEVENT
END:VCALENDAR