BEGIN:VCALENDAR
VERSION:2.0
PRODID:-//Grace Baptist Church Sudbury - ECPv6.15.20//NONSGML v1.0//EN
CALSCALE:GREGORIAN
METHOD:PUBLISH
X-ORIGINAL-URL:https://gracebaptistsudbury.co.uk
X-WR-CALDESC:Events for Grace Baptist Church Sudbury
REFRESH-INTERVAL;VALUE=DURATION:PT1H
X-Robots-Tag:noindex
X-PUBLISHED-TTL:PT1H
BEGIN:VTIMEZONE
TZID:Europe/London
BEGIN:DAYLIGHT
TZOFFSETFROM:+0000
TZOFFSETTO:+0100
TZNAME:BST
DTSTART:20240331T010000
END:DAYLIGHT
BEGIN:STANDARD
TZOFFSETFROM:+0100
TZOFFSETTO:+0000
TZNAME:GMT
DTSTART:20241027T010000
END:STANDARD
BEGIN:DAYLIGHT
TZOFFSETFROM:+0000
TZOFFSETTO:+0100
TZNAME:BST
DTSTART:20250330T010000
END:DAYLIGHT
BEGIN:STANDARD
TZOFFSETFROM:+0100
TZOFFSETTO:+0000
TZNAME:GMT
DTSTART:20251026T010000
END:STANDARD
BEGIN:DAYLIGHT
TZOFFSETFROM:+0000
TZOFFSETTO:+0100
TZNAME:BST
DTSTART:20260329T010000
END:DAYLIGHT
BEGIN:STANDARD
TZOFFSETFROM:+0100
TZOFFSETTO:+0000
TZNAME:GMT
DTSTART:20261025T010000
END:STANDARD
END:VTIMEZONE
BEGIN:VEVENT
DTSTART;TZID=Europe/London:20251003T190000
DTEND;TZID=Europe/London:20251003T210000
DTSTAMP:20260421T150926
CREATED:20250902T085848Z
LAST-MODIFIED:20250902T085848Z
UID:1302-1759518000-1759525200@gracebaptistsudbury.co.uk
SUMMARY:Young People's evening
DESCRIPTION:All secondary school age children welcome. See Home page for contact details.
URL:https://gracebaptistsudbury.co.uk/event/young-peoples-evening-30
LOCATION:Suffolk
END:VEVENT
BEGIN:VEVENT
DTSTART;TZID=Europe/London:20251004T170000
DTEND;TZID=Europe/London:20251004T190000
DTSTAMP:20260421T150926
CREATED:20250902T090148Z
LAST-MODIFIED:20250902T090148Z
UID:1305-1759597200-1759604400@gracebaptistsudbury.co.uk
SUMMARY:Harvest Supper
DESCRIPTION:
URL:https://gracebaptistsudbury.co.uk/event/harvest-supper-3
LOCATION:Grace Baptist Church\, New Street\, Sudbury\, Suffolk\, CO10 1JB\, United Kingdom
END:VEVENT
BEGIN:VEVENT
DTSTART;TZID=Europe/London:20251009T140000
DTEND;TZID=Europe/London:20251009T150000
DTSTAMP:20260421T150926
CREATED:20250902T085625Z
LAST-MODIFIED:20250902T085625Z
UID:1298-1760018400-1760022000@gracebaptistsudbury.co.uk
SUMMARY:Women to women ladies meeting
DESCRIPTION:
URL:https://gracebaptistsudbury.co.uk/event/women-to-women-ladies-meeting-54
LOCATION:Grace Baptist Church\, New Street\, Sudbury\, Suffolk\, CO10 1JB\, United Kingdom
END:VEVENT
BEGIN:VEVENT
DTSTART;TZID=Europe/London:20251023T140000
DTEND;TZID=Europe/London:20251023T150000
DTSTAMP:20260421T150926
CREATED:20250902T085717Z
LAST-MODIFIED:20250902T085717Z
UID:1300-1761228000-1761231600@gracebaptistsudbury.co.uk
SUMMARY:Women to women ladies meeting
DESCRIPTION:
URL:https://gracebaptistsudbury.co.uk/event/women-to-women-ladies-meeting-55
LOCATION:Grace Baptist Church\, New Street\, Sudbury\, Suffolk\, CO10 1JB\, United Kingdom
END:VEVENT
END:VCALENDAR