BEGIN:VCALENDAR
VERSION:2.0
PRODID:-//Grace Baptist Church Sudbury - ECPv6.15.20//NONSGML v1.0//EN
CALSCALE:GREGORIAN
METHOD:PUBLISH
X-WR-CALNAME:Grace Baptist Church Sudbury
X-ORIGINAL-URL:https://gracebaptistsudbury.co.uk
X-WR-CALDESC:Events for Grace Baptist Church Sudbury
REFRESH-INTERVAL;VALUE=DURATION:PT1H
X-Robots-Tag:noindex
X-PUBLISHED-TTL:PT1H
BEGIN:VTIMEZONE
TZID:Europe/London
BEGIN:DAYLIGHT
TZOFFSETFROM:+0000
TZOFFSETTO:+0100
TZNAME:BST
DTSTART:20240331T010000
END:DAYLIGHT
BEGIN:STANDARD
TZOFFSETFROM:+0100
TZOFFSETTO:+0000
TZNAME:GMT
DTSTART:20241027T010000
END:STANDARD
BEGIN:DAYLIGHT
TZOFFSETFROM:+0000
TZOFFSETTO:+0100
TZNAME:BST
DTSTART:20250330T010000
END:DAYLIGHT
BEGIN:STANDARD
TZOFFSETFROM:+0100
TZOFFSETTO:+0000
TZNAME:GMT
DTSTART:20251026T010000
END:STANDARD
BEGIN:DAYLIGHT
TZOFFSETFROM:+0000
TZOFFSETTO:+0100
TZNAME:BST
DTSTART:20260329T010000
END:DAYLIGHT
BEGIN:STANDARD
TZOFFSETFROM:+0100
TZOFFSETTO:+0000
TZNAME:GMT
DTSTART:20261025T010000
END:STANDARD
END:VTIMEZONE
BEGIN:VEVENT
DTSTART;TZID=Europe/London:20251106T140000
DTEND;TZID=Europe/London:20251106T150000
DTSTAMP:20260421T131134
CREATED:20251023T092356Z
LAST-MODIFIED:20251023T092356Z
UID:1310-1762437600-1762441200@gracebaptistsudbury.co.uk
SUMMARY:Women to women ladies meeting
DESCRIPTION:
URL:https://gracebaptistsudbury.co.uk/event/women-to-women-ladies-meeting-56
LOCATION:Grace Baptist Church\, New Street\, Sudbury\, Suffolk\, CO10 1JB\, United Kingdom
END:VEVENT
BEGIN:VEVENT
DTSTART;TZID=Europe/London:20251114T193000
DTEND;TZID=Europe/London:20251114T213000
DTSTAMP:20260421T131134
CREATED:20251023T092529Z
LAST-MODIFIED:20251023T092529Z
UID:1314-1763148600-1763155800@gracebaptistsudbury.co.uk
SUMMARY:Ladies Craft evening
DESCRIPTION:
URL:https://gracebaptistsudbury.co.uk/event/ladies-craft-evening
LOCATION:Grace Baptist Church\, New Street\, Sudbury\, Suffolk\, CO10 1JB\, United Kingdom
END:VEVENT
BEGIN:VEVENT
DTSTART;TZID=Europe/London:20251122T160000
DTEND;TZID=Europe/London:20251122T170000
DTSTAMP:20260421T131134
CREATED:20250902T090445Z
LAST-MODIFIED:20250902T090445Z
UID:1307-1763827200-1763830800@gracebaptistsudbury.co.uk
SUMMARY:Special history meeting
DESCRIPTION:Subject: William Tyndale & the English Bible. \nSpeaker: Brian Edwards.
URL:https://gracebaptistsudbury.co.uk/event/special-history-meeting
LOCATION:Grace Baptist Church\, New Street\, Sudbury\, Suffolk\, CO10 1JB\, United Kingdom
END:VEVENT
BEGIN:VEVENT
DTSTART;TZID=Europe/London:20251128T193000
DTEND;TZID=Europe/London:20251128T210000
DTSTAMP:20260421T131134
CREATED:20251023T092717Z
LAST-MODIFIED:20251023T092717Z
UID:1318-1764358200-1764363600@gracebaptistsudbury.co.uk
SUMMARY:Men's meeting
DESCRIPTION:
URL:https://gracebaptistsudbury.co.uk/event/mens-meeting-14
LOCATION:Grace Baptist Church\, New Street\, Sudbury\, Suffolk\, CO10 1JB\, United Kingdom
END:VEVENT
END:VCALENDAR